BEGIN:VCALENDAR
VERSION:2.0
PRODID:-//Jacksonfeild - ECPv6.7.0//NONSGML v1.0//EN
CALSCALE:GREGORIAN
METHOD:PUBLISH
X-WR-CALNAME:Jacksonfeild
X-ORIGINAL-URL:https://jacksonfeild.org
X-WR-CALDESC:Events for Jacksonfeild
REFRESH-INTERVAL;VALUE=DURATION:PT1H
X-Robots-Tag:noindex
X-PUBLISHED-TTL:PT1H
BEGIN:VTIMEZONE
TZID:UTC
BEGIN:STANDARD
TZOFFSETFROM:+0000
TZOFFSETTO:+0000
TZNAME:UTC
DTSTART:20250101T000000
END:STANDARD
END:VTIMEZONE
BEGIN:VEVENT
DTSTART;VALUE=DATE:20250122
DTEND;VALUE=DATE:20250124
DTSTAMP:20260423T084900
CREATED:20250117T193004Z
LAST-MODIFIED:20250117T193004Z
UID:2774-1737504000-1737676799@jacksonfeild.org
SUMMARY:I have a Dream Announcement
DESCRIPTION:
URL:https://jacksonfeild.org/event/i-have-a-dream-announcement/
CATEGORIES:Event
END:VEVENT
END:VCALENDAR