BEGIN:VCALENDAR
VERSION:2.0
PRODID:-//Jacksonfeild - ECPv6.7.0//NONSGML v1.0//EN
CALSCALE:GREGORIAN
METHOD:PUBLISH
X-WR-CALNAME:Jacksonfeild
X-ORIGINAL-URL:https://jacksonfeild.org
X-WR-CALDESC:Events for Jacksonfeild
REFRESH-INTERVAL;VALUE=DURATION:PT1H
X-Robots-Tag:noindex
X-PUBLISHED-TTL:PT1H
BEGIN:VTIMEZONE
TZID:UTC
BEGIN:STANDARD
TZOFFSETFROM:+0000
TZOFFSETTO:+0000
TZNAME:UTC
DTSTART:20250101T000000
END:STANDARD
END:VTIMEZONE
BEGIN:VEVENT
DTSTART;TZID=UTC:20250108T080000
DTEND;TZID=UTC:20250108T170000
DTSTAMP:20260423T095059
CREATED:20250117T191224Z
LAST-MODIFIED:20250117T191224Z
UID:2753-1736323200-1736355600@jacksonfeild.org
SUMMARY:Creative Arts Club
DESCRIPTION:
URL:https://jacksonfeild.org/event/creative-arts-club/
CATEGORIES:Event
END:VEVENT
END:VCALENDAR