BEGIN:VCALENDAR
VERSION:2.0
PRODID:-//Jacksonfeild - ECPv6.7.0//NONSGML v1.0//EN
CALSCALE:GREGORIAN
METHOD:PUBLISH
X-ORIGINAL-URL:https://jacksonfeild.org
X-WR-CALDESC:Events for Jacksonfeild
REFRESH-INTERVAL;VALUE=DURATION:PT1H
X-Robots-Tag:noindex
X-PUBLISHED-TTL:PT1H
BEGIN:VTIMEZONE
TZID:UTC
BEGIN:STANDARD
TZOFFSETFROM:+0000
TZOFFSETTO:+0000
TZNAME:UTC
DTSTART:20240101T000000
END:STANDARD
END:VTIMEZONE
BEGIN:VEVENT
DTSTART;VALUE=DATE:20241218
DTEND;VALUE=DATE:20241219
DTSTAMP:20260423T102203
CREATED:20250117T184247Z
LAST-MODIFIED:20250117T184247Z
UID:2726-1734480000-1734566399@jacksonfeild.org
SUMMARY:Flannel Day/Shine Bright Day (Wear flannel & light apparel)
DESCRIPTION:
URL:https://jacksonfeild.org/event/flannel-day-shine-bright-day-wear-flannel-light-apparel/
CATEGORIES:Event
END:VEVENT
END:VCALENDAR