BEGIN:VCALENDAR
VERSION:2.0
PRODID:-//Jacksonfeild - ECPv6.7.0//NONSGML v1.0//EN
CALSCALE:GREGORIAN
METHOD:PUBLISH
X-WR-CALNAME:Jacksonfeild
X-ORIGINAL-URL:https://jacksonfeild.org
X-WR-CALDESC:Events for Jacksonfeild
REFRESH-INTERVAL;VALUE=DURATION:PT1H
X-Robots-Tag:noindex
X-PUBLISHED-TTL:PT1H
BEGIN:VTIMEZONE
TZID:UTC
BEGIN:STANDARD
TZOFFSETFROM:+0000
TZOFFSETTO:+0000
TZNAME:UTC
DTSTART:20240101T000000
END:STANDARD
END:VTIMEZONE
BEGIN:VEVENT
DTSTART;VALUE=DATE:20240502
DTEND;VALUE=DATE:20240503
DTSTAMP:20260424T020025
CREATED:20241107T213015Z
LAST-MODIFIED:20250512T173906Z
UID:2248-1714608000-1714694399@jacksonfeild.org
SUMMARY:Annual Go Golfing for the Kids Tournament
DESCRIPTION:Proceeds from this year’s tournament go towards providing the children on campus with resources needed for their treatment program
URL:https://jacksonfeild.org/event/annual-go-golfing-for-the-kids-tournament/
CATEGORIES:Event
ATTACH;FMTTYPE=image/webp:https://jacksonfeild.org/wp-content/uploads/2024/11/goldfing2.webp
END:VEVENT
END:VCALENDAR