BEGIN:VCALENDAR
VERSION:2.0
PRODID:-//Jacksonfeild - ECPv6.7.0//NONSGML v1.0//EN
CALSCALE:GREGORIAN
METHOD:PUBLISH
X-WR-CALNAME:Jacksonfeild
X-ORIGINAL-URL:https://jacksonfeild.org
X-WR-CALDESC:Events for Jacksonfeild
REFRESH-INTERVAL;VALUE=DURATION:PT1H
X-Robots-Tag:noindex
X-PUBLISHED-TTL:PT1H
BEGIN:VTIMEZONE
TZID:UTC
BEGIN:STANDARD
TZOFFSETFROM:+0000
TZOFFSETTO:+0000
TZNAME:UTC
DTSTART:20240101T000000
END:STANDARD
END:VTIMEZONE
BEGIN:VEVENT
DTSTART;VALUE=DATE:20241202
DTEND;VALUE=DATE:20241204
DTSTAMP:20260423T084729
CREATED:20250117T083539Z
LAST-MODIFIED:20250117T174423Z
UID:2704-1733097600-1733270399@jacksonfeild.org
SUMMARY:Joint Practice Step/Choir
DESCRIPTION:
URL:https://jacksonfeild.org/event/joint-practice-step-choir/
CATEGORIES:Event
END:VEVENT
BEGIN:VEVENT
DTSTART;VALUE=DATE:20241204
DTEND;VALUE=DATE:20241205
DTSTAMP:20260423T084729
CREATED:20250117T175335Z
LAST-MODIFIED:20250117T175335Z
UID:2706-1733270400-1733356799@jacksonfeild.org
SUMMARY:Creative Arts
DESCRIPTION:
URL:https://jacksonfeild.org/event/creative-arts/
CATEGORIES:Event
END:VEVENT
BEGIN:VEVENT
DTSTART;VALUE=DATE:20241205
DTEND;VALUE=DATE:20241206
DTSTAMP:20260423T084729
CREATED:20250117T182755Z
LAST-MODIFIED:20250117T183044Z
UID:2710-1733356800-1733443199@jacksonfeild.org
SUMMARY:Step Practice
DESCRIPTION:
URL:https://jacksonfeild.org/event/step-practice/
CATEGORIES:Event
END:VEVENT
BEGIN:VEVENT
DTSTART;VALUE=DATE:20241206
DTEND;VALUE=DATE:20241207
DTSTAMP:20260423T084729
CREATED:20250117T182718Z
LAST-MODIFIED:20250117T182718Z
UID:2708-1733443200-1733529599@jacksonfeild.org
SUMMARY:Hot Coco Bar (Christmas Movie)
DESCRIPTION:
URL:https://jacksonfeild.org/event/hot-coco-bar-christmas-movie/
CATEGORIES:Event
END:VEVENT
BEGIN:VEVENT
DTSTART;VALUE=DATE:20241209
DTEND;VALUE=DATE:20241211
DTSTAMP:20260423T084729
CREATED:20250117T182837Z
LAST-MODIFIED:20250117T183131Z
UID:2712-1733702400-1733875199@jacksonfeild.org
SUMMARY:Joint Practice Step/Choir
DESCRIPTION:
URL:https://jacksonfeild.org/event/joint-practice-step-choir-2/
CATEGORIES:Event
END:VEVENT
BEGIN:VEVENT
DTSTART;VALUE=DATE:20241211
DTEND;VALUE=DATE:20241212
DTSTAMP:20260423T084729
CREATED:20250117T183202Z
LAST-MODIFIED:20250117T183202Z
UID:2716-1733875200-1733961599@jacksonfeild.org
SUMMARY:Creative Arts
DESCRIPTION:
URL:https://jacksonfeild.org/event/creative-arts-2/
CATEGORIES:Event
END:VEVENT
BEGIN:VEVENT
DTSTART;VALUE=DATE:20241212
DTEND;VALUE=DATE:20241213
DTSTAMP:20260423T084729
CREATED:20250117T183345Z
LAST-MODIFIED:20250117T183345Z
UID:2718-1733961600-1734047999@jacksonfeild.org
SUMMARY:Step Practice
DESCRIPTION:
URL:https://jacksonfeild.org/event/step-practice-2/
CATEGORIES:Event
END:VEVENT
BEGIN:VEVENT
DTSTART;VALUE=DATE:20241213
DTEND;VALUE=DATE:20241214
DTSTAMP:20260423T084729
CREATED:20250117T183859Z
LAST-MODIFIED:20250117T183859Z
UID:2720-1734048000-1734134399@jacksonfeild.org
SUMMARY:Create Christmas Shirts / Christmas Trivia
DESCRIPTION:
URL:https://jacksonfeild.org/event/create-christmas-shirts-christmas-trivia/
CATEGORIES:Event
END:VEVENT
BEGIN:VEVENT
DTSTART;VALUE=DATE:20241216
DTEND;VALUE=DATE:20241217
DTSTAMP:20260423T084729
CREATED:20250117T183954Z
LAST-MODIFIED:20250117T183954Z
UID:2722-1734307200-1734393599@jacksonfeild.org
SUMMARY:Christmas Shirt Day
DESCRIPTION:
URL:https://jacksonfeild.org/event/christmas-shirt-day/
CATEGORIES:Event
END:VEVENT
BEGIN:VEVENT
DTSTART;VALUE=DATE:20241217
DTEND;VALUE=DATE:20241218
DTSTAMP:20260423T084729
CREATED:20250117T184034Z
LAST-MODIFIED:20250117T184034Z
UID:2724-1734393600-1734479999@jacksonfeild.org
SUMMARY:Candy Cane Day
DESCRIPTION:
URL:https://jacksonfeild.org/event/candy-cane-day/
CATEGORIES:Event
END:VEVENT
BEGIN:VEVENT
DTSTART;VALUE=DATE:20241218
DTEND;VALUE=DATE:20241219
DTSTAMP:20260423T084729
CREATED:20250117T184247Z
LAST-MODIFIED:20250117T184247Z
UID:2726-1734480000-1734566399@jacksonfeild.org
SUMMARY:Flannel Day/Shine Bright Day (Wear flannel & light apparel)
DESCRIPTION:
URL:https://jacksonfeild.org/event/flannel-day-shine-bright-day-wear-flannel-light-apparel/
CATEGORIES:Event
END:VEVENT
BEGIN:VEVENT
DTSTART;VALUE=DATE:20241219
DTEND;VALUE=DATE:20241220
DTSTAMP:20260423T084729
CREATED:20250117T184317Z
LAST-MODIFIED:20250117T184317Z
UID:2728-1734566400-1734652799@jacksonfeild.org
SUMMARY:Cozy Pajama Day
DESCRIPTION:
URL:https://jacksonfeild.org/event/cozy-pajama-day/
CATEGORIES:Event
END:VEVENT
BEGIN:VEVENT
DTSTART;VALUE=DATE:20241220
DTEND;VALUE=DATE:20241221
DTSTAMP:20260423T084729
CREATED:20250117T184736Z
LAST-MODIFIED:20250117T184736Z
UID:2730-1734652800-1734739199@jacksonfeild.org
SUMMARY:Christmas Program / Dress to Impress
DESCRIPTION:
URL:https://jacksonfeild.org/event/christmas-program-dress-to-impress/
CATEGORIES:Event
END:VEVENT
BEGIN:VEVENT
DTSTART;VALUE=DATE:20241223
DTEND;VALUE=DATE:20241224
DTSTAMP:20260423T084729
CREATED:20250117T184815Z
LAST-MODIFIED:20250117T184815Z
UID:2732-1734912000-1734998399@jacksonfeild.org
SUMMARY:Asynchronous Learning
DESCRIPTION:
URL:https://jacksonfeild.org/event/asynchronous-learning/
CATEGORIES:Event
END:VEVENT
BEGIN:VEVENT
DTSTART;VALUE=DATE:20241224
DTEND;VALUE=DATE:20241225
DTSTAMP:20260423T084729
CREATED:20250117T184929Z
LAST-MODIFIED:20250117T184929Z
UID:2736-1734998400-1735084799@jacksonfeild.org
SUMMARY:School Closed
DESCRIPTION:
URL:https://jacksonfeild.org/event/school-closed/
CATEGORIES:Event
END:VEVENT
BEGIN:VEVENT
DTSTART;VALUE=DATE:20241226
DTEND;VALUE=DATE:20241228
DTSTAMP:20260423T084729
CREATED:20250117T184849Z
LAST-MODIFIED:20250117T184849Z
UID:2734-1735171200-1735343999@jacksonfeild.org
SUMMARY:Asynchronous Learning
DESCRIPTION:
URL:https://jacksonfeild.org/event/asynchronous-learning-2/
CATEGORIES:Event
END:VEVENT
BEGIN:VEVENT
DTSTART;VALUE=DATE:20241230
DTEND;VALUE=DATE:20241231
DTSTAMP:20260423T084729
CREATED:20250117T185059Z
LAST-MODIFIED:20250117T185059Z
UID:2739-1735516800-1735603199@jacksonfeild.org
SUMMARY:Asynchronous Learning
DESCRIPTION:
URL:https://jacksonfeild.org/event/asynchronous-learning-3/
CATEGORIES:Event
END:VEVENT
BEGIN:VEVENT
DTSTART;VALUE=DATE:20241231
DTEND;VALUE=DATE:20250101
DTSTAMP:20260423T084729
CREATED:20250117T185357Z
LAST-MODIFIED:20250117T185357Z
UID:2741-1735603200-1735689599@jacksonfeild.org
SUMMARY:School Closed
DESCRIPTION:
URL:https://jacksonfeild.org/event/school-closed-2/
CATEGORIES:Event
END:VEVENT
END:VCALENDAR